BEGIN:VCALENDAR
METHOD:PUBLISH
VERSION:2.0
PRODID:-//Eventilla iCal Syndication//NONSGML Liana//EN
BEGIN:VEVENT
UID:L9PP2E@eventilla.com
DTSTAMP:20240417T060000Z
DTSTART:20240417T060000Z
DTEND:20240417T080000Z
SUMMARY:Julkiset hankinnat kärsimättömille -koulutus
DESCRIPTION:Miten onnistua julkisissa hankinnoissa? Mitä pitää tietää hankintojen kilpailuttamisesta ja julkisten hankintojen logiikasta? Miten onnistuneita sopimuskumppanuuksia luodaan? Ota julkiset hankinnat haltuun kahdessa tunnissa! \nTässä tehokkaassa webinaarikoulutuksessa mennään suoraan asiaan ja tiivistetään olennainen julkisista hankinnoista. Miksi hankinnoista kannattaa innostua\, mitkä ovat lainsäädännön reunaehdot ja lähtökohdat hankinnoille ja miten hankinnoissa onnistuu panostamalla vuoropuheluun. Oivalluksia julkisiin hankintoihin tarjoillaan myös meemien muodossa.\nKenelle?\nKoulutus on suunnattu mm.: \n\ntarjoajille/tarjoajien edustajille\nhankintayksiköiden edustajile\npoliittisille päättäjille \nsekä muille työnsä puolesta julkisia hankintoja sivuaville tahoille\, jotka ovat motivoituneita kuulemaan kaiken olennaisen julkisten hankintojen lähtökohdista ilman aikaa pidemmälle kouluttautumiselle.\n\nKoulutuksen osallistuja saa:\n\nTehokkaan ja asiantuntevan webinaarikoulutuksen julkisista hankinnoista.\nMahdollisuuden esittää kysymyksiä ja kommentteja kouluttajille ennakkoon sekä koulutuksen aikana paikan päällä tai webinaarin chatissa.  (Lähetä ennakkokysymyksesi: asiakaspalvelu.koulutukset@edita.fi).\nKoulutuksen webinaaritallenteen puolen vuoden ajaksi käyttöönsä.\nEdilex-verkkopalvelun käyttöoikeuden määräajaksi (alkaen ilmoittautumisesta ja päättyen neljä viikkoa koulutuksen jälkeen). Kun haluat ottaa palvelun käyttöösi\, toimi näin.\n\nHaluaisitko tilata omalle organisaatiollesi räätälöidyn koulutuksen? Tutustu tilauskoulutuksiimme.\n \nKatso ohjelma\nAlennukset & Edut\n\nEdilexin käyttäjät: -15% koodilla EDILEX\nCreditan käyttäjät: -15% koodilla CREDITA\nJulkisen sektorin sekä yleishyödyllisten yhteisöjen edustajat: -15% koodilla JULKINEN\nJuristiliiton jäsen: -20% koodilla JURISTILIITTO\n\nAlennuskoodien alennus lasketaan 1 hlö perushinnasta. Alennuksia ei voi yhdistää muihin alennuksiin.\nVarmista paikkasi koulutuksessa ilmoittautumalla viimeistään kaksi viikkoa ennen koulutuspäivää.\nRyhmäetuhinnan saa\, kun samasta organisaatiosta ilmoitetaan monta osallistujaa samalla kertaa.\n 
LOCATION:Koulutus järjestetään verkossa
URL:http://tapahtumat.lakitieto.edilex.fi/julkiset-hankinnat-karsimattomille
END:VEVENT
END:VCALENDAR
