BEGIN:VCALENDAR
METHOD:PUBLISH
VERSION:2.0
PRODID:-//Eventilla iCal Syndication//NONSGML Liana//EN
BEGIN:VEVENT
UID:LD4E2W@eventilla.com
DTSTAMP:20250130T070000Z
DTSTART:20250130T070000Z
DTEND:20250130T140000Z
SUMMARY:Vesi- ja ympäristölupapäivä – miten tehostaa lupaprosessia?
DESCRIPTION:Miten laatia hyvä vesi- tai ympäristölupahakemus? Miten hankkeiden vaikutuksia arvioidaan ja luontoselvityksiä tehdään osana lupaprosessia? Millaisia virheitä lupa- ja valitusprosessissa yleensä tehdään? Mitä kuuluu yhden luukun lainsäädäntöhankkeelle? Vesi- ja ympäristölupapäivän tavoitteena on auttaa lupien hakijoita tekemään onnistuneita hakemuksia ja samalla helpottaa viranomaisten työtaakkaa. \nVesi- ja ympäristölupapäivä tarjoaa käytännön ohjeita vesi- ja ympäristölupahakemusten tekemiseen sekä valitusten laadintaan. Tule poimimaan lupaprosessin eri vaiheisiin osallistuvien asiantuntijoiden konkreettiset esimerkit hyvistä käytännöistä ja tyypillisistä virheistä. Kuulet päivässä myös ympäristöministeriön tietoiskun yhden luukun lainsäädäntöhankkeesta ja KHO:n tuoreen oikeuskäytännön linjanvetoja. \nVesi- ja ympäristölupien hakeminen ja päätöksistä valittaminen on kirjallista menettelyä\, joten siitä puuttuu luonnollinen vuorovaikutus ja mahdollisuus saada palautetta lupien ja valitusten käsittelijöiltä. Tilaisuutemme tarjoaa mahdollisuuden luvan hakijoiden ja viranomaisten vuorovaikutukseen ja palautteen antamiseen puolin ja toisin. Vesi- ja ympäristölupapäivän tavoitteena on oppia tuntemaan hakuprosessin eri osapuolten työskentelytapoja ja edistää prosessien kehittämistä. \nKoulutus etsii vastauksia muun muassa seuraaviin kysymyksiin:\n\nMillainen on hyvä lupahakemus? \nMiten hankkeen ympäristövaikutuksia arvioidaan?\nMitkä puutteet poikivat useimmiten täydennyskehotuksia? \nMiten lupakäsittelyn aikatauluja voitaisiin nopeuttaa? \nMiten minimoida turhat valitukset?\nMitkä ovat hyvän hakemuksen peruselementit?\nMiten laatia hyvä valitus?\nMiten hakijoiden ja lupien käsittelijöiden vuorovaikutusta voitaisiin parantaa?\nMiten yhden luukun hanke muuttaa lupaprosessia?\nMiten vesi- ja ympäristölupiin liittyviä riitoja on ratkaistu tuoreessa oikeuskäytännössä?\n\nKenelle?\nAjankohtaispäivä on suunnattu ympäristöoikeuteen erikoistuneille juristeille\, ympäristöpäälliköille\, ympäristöinsinööreille\, konsulteille\, ympäristöasioiden parissa työskenteleville virkamiehille ja muille ympäristöasioiden parissa työskenteleville asiantuntijoille ja johtajille.\nEtänä tai paikan päällä\nVoit osallistua koulutukseen paikan päällä tai etänä. Kokemustemme mukaan parhaat palautteet saamme kuitenkin lähiosallistujilta\, jotka pääsevät nauttimaan myös taukokeskusteluista ja tarjoiluista. Tervetuloa mukaan!\nKoulutuksen osallistuja saa:\n\nAjankohtaisen tietopaketin päivän aiheesta sekä mm käytännön ohjeita vesi- ja ympäristölupahakemusten tekemiseen.\nMonipuolisia näkemyksiä aluetta eri näkökulmista tarkastelevilta asiantuntijoilta oman työnsä tueksi.\nLähikoulutukseen osallistuessaan ohjelmaan merkityt tarjoilut.\nMahdollisuuden esittää kysymyksiä ja kommentteja kouluttajille ennakkoon sekä koulutuksen aikana. (Lähetä ennakkokysymyksesi: asiakaspalvelu.koulutukset@edilex.fi).\nKoulutuksen webinaaritallenteen puolen vuoden ajaksi käyttöönsä.\nEdilex-verkkopalvelun käyttöoikeuden määräajaksi (alkaen ilmoittautumisesta ja päättyen neljä viikkoa koulutuksen jälkeen). Kun haluat ottaa palvelun käyttöösi\, toimi näin.\n\n \nKatso ohjelma\nTutustu päivän kouluttajiin\n \nAlennukset & Edut\n\nEdilexin käyttäjät: -20% koodilla EDILEX20\nCreditan käyttäjät: -20% koodilla CREDITA20\nJulkisen sektorin sekä yleishyödyllisten yhteisöjen edustajat: -15% koodilla JULKINEN\nJuristiliiton jäsen: -20% koodilla JURISTILIITTO\n\nAlennuskoodien alennus lasketaan 1 hlö perushinnasta. Alennuksia ei voi yhdistää muihin alennuksiin.\nVarmista paikkasi koulutuksessa ilmoittautumalla viimeistään kaksi viikkoa ennen koulutuspäivää.\nRyhmäetuhinnan saa\, kun samasta organisaatiosta ilmoitetaan monta osallistujaa samalla kertaa.
LOCATION:Hobo Helsinki & Verkossa\, Kluuvikatu 4\, 00100\, Helsinki\,
 Suomi
URL:http://tapahtumat.lakitieto.edilex.fi/vesi-ja-ymparistolupapaiva
END:VEVENT
END:VCALENDAR
